BEGIN:VCALENDAR
VERSION:2.0
PRODID:-//ChamberMaster//Event Calendar 2.0//EN
METHOD:PUBLISH
X-PUBLISHED-TTL:P3D
REFRESH-INTERVAL:P3D
CALSCALE:GREGORIAN
BEGIN:VEVENT
DTSTART:20260501T190000Z
DTEND:20260501T210000Z
X-MICROSOFT-CDO-ALLDAYEVENT:FALSE
SUMMARY:WyHy Spring Shred Days
DESCRIPTION:Join WyHy for Shred Days and safely dispose of old documents that contain sensitive information. From bank statements and tax paperwork to medical records and outdated bills\, this is an easy way to reduce your risk of identity theft and get peace of mind.\n\nShredding is provided on-site by a professional shredding partner\, and donations to the Food Bank of Wyoming are encouraged to help support our Wyoming neighbors.\n\n\n\nLearn more here - www.wyhy.org/SpringShred
X-ALT-DESC;FMTTYPE=text/html:<p>Join WyHy for Shred Days and safely dispose of old documents that contain sensitive information. From bank statements and tax paperwork to medical records and outdated bills\, this is an easy way to reduce your risk of identity theft and get peace of mind.</p>\n\n<p>Shredding is provided on-site by a professional shredding partner\, and donations to the Food Bank of Wyoming&nbsp\;are encouraged to help support our Wyoming neighbors.<br />\n<br />\nLearn more here - www.wyhy.org/SpringShred</p>\n
LOCATION:1521 Centennial Ct\, Casper\, WY 82609
UID:e.2152.17494
SEQUENCE:3
DTSTAMP:20260424T233855Z
URL:https://business.casperwyoming.org/events/details/wyhy-spring-shred-days-17494
END:VEVENT

END:VCALENDAR
