BEGIN:VCALENDAR
VERSION:2.0
PRODID:-//ChamberMaster//Event Calendar 2.0//EN
METHOD:PUBLISH
X-PUBLISHED-TTL:P3D
REFRESH-INTERVAL:P3D
CALSCALE:GREGORIAN
BEGIN:VEVENT
DTSTART:20260501T160000Z
DTEND:20260502T230000Z
X-MICROSOFT-CDO-ALLDAYEVENT:FALSE
SUMMARY:The Wonderful World of Colored Pencils
DESCRIPTION:The Wonderful World of Colored Pencils: with Lynn Jones Register Here: https://www.zeffy.com/.../explore-the-wonderful-world-of... or call The NIC 307-235-5247 Join us for this two-day in-person workshop\, Friday\, May 1st and Saturday\, May 2nd at 10AM-5PM with a 1 hour lunch break! All levels are welcome! There is no need to know how to draw\; handouts and supply list will be provided. Admission for both days: $175 for Members | $200 for Not-Yet-Members Participants must be 12 or older. About the Artist: Lynn Jones has been an artist all of her life\, but her path was encouraged by her high school art teacher. Continuing in college while gaining her art degree\, she sold her first oil painting to the Dean of the College. Her Bachelor's degree continued into International Business and then obtaining a Master's of Business Administration. However\, she has always been creative\; sewing\, quilting\, jewelry design\, a bridal business\, interior design and gardening. It is this last passion that inspires her art today. She has taught business for over 15 years and now teaches art classes in professional colored pencil\, watercolor and pastel. As well as teaching formal classes\, she also gives private lessons and accepts commissions. She has lived in Wyoming for over 30 years with sales\, classes and exhibits around all 50 states.
X-ALT-DESC;FMTTYPE=text/html:The Wonderful World of Colored Pencils: with Lynn Jones Register Here: https://www.zeffy.com/.../explore-the-wonderful-world-of... or call The NIC 307-235-5247 Join us for this two-day in-person workshop\, Friday\, May 1st and Saturday\, May 2nd at 10AM-5PM with a 1 hour lunch break! All levels are welcome! There is no need to know how to draw\; handouts and supply list will be provided. Admission for both days: $175 for Members | $200 for Not-Yet-Members Participants must be 12 or older. About the Artist: Lynn Jones has been an artist all of her life\, but her path was encouraged by her high school art teacher. Continuing in college while gaining her art degree\, she sold her first oil painting to the Dean of the College. Her Bachelor&rsquo\;s degree continued into International Business and then obtaining a Master&rsquo\;s of Business Administration. However\, she has always been creative\; sewing\, quilting\, jewelry design\, a bridal business\, interior design and gardening. It is this last passion that inspires her art today. She has taught business for over 15 years and now teaches art classes in professional colored pencil\, watercolor and pastel. As well as teaching formal classes\, she also gives private lessons and accepts commissions. She has lived in Wyoming for over 30 years with sales\, classes and exhibits around all 50 states.
LOCATION:The Nicolaysen Art Museum 400 E Collins Street Casper\, WY 82601
UID:e.2152.17491
SEQUENCE:3
DTSTAMP:20260419T163253Z
URL:https://business.casperwyoming.org/events/details/the-wonderful-world-of-colored-pencils-17491
END:VEVENT

END:VCALENDAR
