BEGIN:VCALENDAR
VERSION:2.0
PRODID:-//ChamberMaster//Event Calendar 2.0//EN
METHOD:PUBLISH
X-PUBLISHED-TTL:P3D
REFRESH-INTERVAL:P3D
CALSCALE:GREGORIAN
BEGIN:VEVENT
DTSTART:20240705T230000Z
DTEND:20240706T030000Z
X-MICROSOFT-CDO-ALLDAYEVENT:FALSE
SUMMARY:Friday Night Prime Rib!
DESCRIPTION:Friday Night Prime Rib from Petro Pub!
X-ALT-DESC;FMTTYPE=text/html:<span style="color:rgb(5\, 5\, 5)\; font-family:segoe ui historic\,segoe ui\,helvetica\,arial\,sans-serif\; font-size:15px">Friday Night Prime Rib from Petro Pub!</span>
LOCATION:
UID:e.2152.15649
SEQUENCE:3
DTSTAMP:20260420T052940Z
URL:https://business.casperwyoming.org/events/details/friday-night-prime-rib-07-05-2024-15649
END:VEVENT

END:VCALENDAR
