BEGIN:VCALENDAR
VERSION:2.0
PRODID:-//ChamberMaster//Event Calendar 2.0//EN
METHOD:PUBLISH
X-PUBLISHED-TTL:P3D
REFRESH-INTERVAL:P3D
CALSCALE:GREGORIAN
BEGIN:VEVENT
DTSTART:20260408T173000Z
DTEND:20260408T190000Z
X-MICROSOFT-CDO-ALLDAYEVENT:FALSE
SUMMARY:2026 Post-Legislative Forum
DESCRIPTION:The Casper Area Chamber of Commerce present the 2026 Post-Legislative Forum. Hear directly from our local legislatures as they return from Cheyenne following the budget session. Learn what happened\, what it means for Natrona County and what's on the horizon for Wyoming Businesses and communities.\n\n\n\n\n\n\n\n* Deadline to register is Wednesday\, April 1st at 5:00 p.m. Registration is required*
X-ALT-DESC;FMTTYPE=text/html:<p><br />\nThe Casper Area Chamber of Commerce present the 2026 Post-Legislative Forum. Hear directly from our local legislatures as they return from Cheyenne following the budget session. Learn what happened\, what it means for Natrona County and what&#39\;s on the horizon for Wyoming Businesses and communities.<br />\n<br />\n<br />\n<br />\n<strong><span style="color:#0000FF\;"><span style="font-size:14px\;">* Deadline to register is Wednesday\, April 1st&nbsp\;at 5:00 p.m. Registration is required*</span></span></strong><br />\n&nbsp\;</p>\n\n<p><br />\n&nbsp\;</p>\n<br />\n&nbsp\;
LOCATION:The Hanger 1410 Prairie Lane Bar Nunn\, Wyoming
UID:e.2152.17462
SEQUENCE:3
DTSTAMP:20260424T121911Z
URL:https://business.casperwyoming.org/events/details/2026-pre-legislative-forum-17462
END:VEVENT

END:VCALENDAR
